BEGIN:VCALENDAR
VERSION:2.0
PRODID:-//ChamberMaster//Event Calendar 2.0//EN
METHOD:PUBLISH
X-PUBLISHED-TTL:P3D
REFRESH-INTERVAL:P3D
CALSCALE:GREGORIAN
BEGIN:VEVENT
DTSTART:20190307T010000Z
DTEND:20190307T023000Z
X-MICROSOFT-CDO-ALLDAYEVENT:FALSE
SUMMARY:Deep Freeze Read - An Evening with Dan Egan
DESCRIPTION:Lake Bluff Public Library and Lake Forest Library are proud to present a new\, joint winter reading program called Deep Freeze Read.\n\nThis Two Communities\, One Nonfiction Book program brings together Lake Forest and Lake Bluff with the purpose of enhancing nonfiction literacy and inspiring discussion around real-world issues.\n\nThis inaugural year\, join us in reading The Death and Life of the Great Lakes by Dan Egan and attending events across our two communities.\n\nSusie Hoffman\, Director of Education at Lake Forest Open Lands\, interviews Dan Egan during this culminating event of Deep Freeze Read\, followed by a book signing. Lake Forest Book Store will be on site with books for purchase.
X-ALT-DESC;FMTTYPE=text/html:<p>&nbsp\;</p>\n\n<p><span style="font-size:14px"><span style="font-family:arial\,helvetica\,sans-serif">Lake Bluff Public Library and Lake Forest Library are proud to present a new\, joint winter reading program called <em>Deep Freeze Read</em>.</span></span></p>\n\n<p><span style="font-size:14px"><span style="font-family:arial\,helvetica\,sans-serif">This <em>Two Communities\, One Nonfiction Book </em>program brings together Lake Forest and Lake Bluff with the purpose of enhancing nonfiction literacy and inspiring discussion around real-world issues.</span></span></p>\n\n<p><span style="font-size:14px"><span style="font-family:arial\,helvetica\,sans-serif">This inaugural year\, join us in reading <em>The Death and Life of the Great Lakes</em> by Dan Egan and attending events across our two communities.</span></span></p>\n\n<p><span style="font-size:14px"><span style="font-family:arial\,helvetica\,sans-serif">Susie Hoffman\, Director of Education at Lake Forest Open Lands\, interviews Dan Egan during this culminating event of Deep Freeze Read\, followed by a book signing. Lake Forest Book Store will be on site with books for purchase.</span></span></p>\n
LOCATION:Gorton Community Center 400 E. Illinois Rd.\, Lake Forest\, IL 60045
UID:e.1126.17610
SEQUENCE:3
DTSTAMP:20260424T113516Z
URL:https://business.lflbchamber.com/events/details/deep-freeze-read-an-evening-with-dan-egan-17610
END:VEVENT

END:VCALENDAR
