BEGIN:VCALENDAR
VERSION:2.0
PRODID:-//ChamberMaster//Event Calendar 2.0//EN
METHOD:PUBLISH
X-PUBLISHED-TTL:P3D
REFRESH-INTERVAL:P3D
CALSCALE:GREGORIAN
BEGIN:VEVENT
DTSTART:20190306T190000Z
DTEND:20190306T203000Z
X-MICROSOFT-CDO-ALLDAYEVENT:FALSE
SUMMARY:Deep Freeze Read - Interview with Dan Egan
DESCRIPTION:Lake Bluff Public Library and Lake Forest Library are proud to present a new\, joint winter reading program called Deep Freeze Read.\n\nThis Two Communities\, One Nonfiction Book program brings together Lake Forest and Lake Bluff with the purpose of enhancing nonfiction literacy and inspiring discussion around real-world issues.\n\nThis inaugural year\, join us in reading The Death and Life of the Great Lakes by Dan Egan and attending events across our two communities.\nEnvironmental Studies professor Glenn Adelson interviews Dan Egan\, reporter at the Milwaukee Journal Sentinel and author of The Death and Life of the Great Lakes. Students and the public are welcome to attend. No registration is required. Room: Lillard 044. For more information\, please visit lakeforest.edu/calendar. Deep Freeze Read is a one-book two-community reading program from Lake Forest and Lake Bluff libraries. For more information\,  visit deepfreezeread.org
X-ALT-DESC;FMTTYPE=text/html:<p>Lake Bluff Public Library and Lake Forest Library are proud to present a new\, joint winter reading program called <em>Deep Freeze Read</em>.</p>\n\n<p>This <em>Two Communities\, One Nonfiction Book </em>program brings together Lake Forest and Lake Bluff with the purpose of enhancing nonfiction literacy and inspiring discussion around real-world issues.</p>\n\n<p>This inaugural year\, join us in reading <em>The Death and Life of the Great Lakes</em> by Dan Egan and attending events across our two communities.</p>\n<span style="color:rgb(0\, 0\, 0)\; font-family:arial\,helvetica\,sans-serif\; font-size:12px">Environmental Studies professor Glenn Adelson interviews Dan Egan\, reporter at the Milwaukee Journal Sentinel and author of The Death and Life of the Great Lakes. Students and the public are welcome to attend. No registration is required. Room: Lillard 044. For more information\, please visit lakeforest.edu/calendar. Deep Freeze Read is a one-book two-community reading program from Lake Forest and Lake Bluff libraries. For more information\,&nbsp\; visit deepfreezeread.org</span>
LOCATION:Lake Forest College Room: Lillard 044 555 N. Sheridan Rd. Lake Forest\, IL 60045
UID:e.1126.17609
SEQUENCE:3
DTSTAMP:20260424T095857Z
URL:https://business.lflbchamber.com/events/details/deep-freeze-read-interview-with-dan-egan-17609
END:VEVENT

END:VCALENDAR
