BEGIN:VCALENDAR
VERSION:2.0
PRODID:-//ChamberMaster//Event Calendar 2.0//EN
METHOD:PUBLISH
X-PUBLISHED-TTL:P3D
REFRESH-INTERVAL:P3D
CALSCALE:GREGORIAN
BEGIN:VEVENT
DTSTART:20240116T230000Z
DTEND:20240117T010000Z
X-MICROSOFT-CDO-ALLDAYEVENT:FALSE
SUMMARY:Deer Path Art League Member's Show Opening at The Gallery
DESCRIPTION:The Deer Path Art League and The Gallery present: \nOn Fire - Member's Show\n\nA MUST-SEE EVENT!\n\n\nJoin local Artists for this highly anticipated art opening presented by Lake Forest's own food icon: The Gallery\n\n\n\nThis expertly curated event highlights the talents of Deer Path Art League artist members\, centered around the red-hot theme: On Fire \n\n\n\nTrust us when we say - this is one show you won't want to miss!\n\n\n\nJoin us for the opening hosted by The Gallery - January 16th\, 5:00 - 7:00pm
X-ALT-DESC;FMTTYPE=text/html:<strong><a href="https://deerpathartleague.org/">The Deer Path Art League</a> and <a href="https://www.thegallerylf.com/">The Gallery</a> present: </strong>\n<div style="text-align:center"><a href="https://deerpathartleague.org/2024-members-show-on-fire/"><span style="color:#FF0000"><u><span style="font-size:18px"><strong>On Fire - Member&#39\;s Show</strong></span></u></span></a><br />\n<strong>A MUST-SEE&nbsp\;EVENT!</strong></div>\n<br />\nJoin local Artists for this highly anticipated art opening presented by Lake Forest&#39\;s own food icon: <a href="https://www.thegallerylf.com/">The Gallery</a><br />\n<br />\nThis expertly curated event highlights the talents of Deer Path Art League artist members\, centered around the red-hot theme: <span style="font-size:14px"><strong><a href="https://deerpathartleague.org/2024-members-show-on-fire/"><span style="color:#FF0000">On Fire</span></a><span style="color:#FF0000">&nbsp\;</span></strong></span><br />\n<br />\nTrust us when we say - this is one show you won&#39\;t want to miss!<br />\n<br />\n<strong>Join us for the opening hosted by <a href="https://www.thegallerylf.com/">The Gallery</a> - January 16th\, 5:00 - 7:00pm&nbsp\;</strong>
LOCATION:The Gallery Lake Forest 202 Wisconsin Ave. Lake Forest IL. 60045 Home | The Gallery | Lake Forest (thegallerylf.com) Email: TheGalleryLF@gmail.com Phone: 224.544.5961
UID:e.1126.26167
SEQUENCE:3
DTSTAMP:20260424T081116Z
URL:https://business.lflbchamber.com/events/details/deer-path-art-league-member-s-show-opening-at-the-gallery-26167
END:VEVENT

END:VCALENDAR
