BEGIN:VCALENDAR
VERSION:2.0
PRODID:-//ChamberMaster//Event Calendar 2.0//EN
METHOD:PUBLISH
X-PUBLISHED-TTL:P3D
REFRESH-INTERVAL:P3D
CALSCALE:GREGORIAN
BEGIN:VEVENT
DTSTART:20210314T190000Z
DTEND:20210314T210000Z
X-MICROSOFT-CDO-ALLDAYEVENT:FALSE
SUMMARY:Dog Rescue Event with Reach Rescue
DESCRIPTION:Spring is on the way so we're having a dog rescue day with Reach Rescue to celebrate!\n\n \n\nBring yourself\, your dog and a friend out to Lake Shore H-D on March 14th from 2-4pm. Reach Rescue will have available dogs who are ready to find their forever home on site! Fork N Fry Mobile Poutine will be joining us to fill your bellies! Lake Shore Harley-Davidson will also be raffling of a Harley-Davidson dog swag basket for your 4 legged friend when you bring them along!\n\n \n\nVendors who will be joining us:\n\n- Law Tigers\n\n- Lake Shore H.O.G\n\n- Pure Primal\n\n- Animal Hospital of West Lake Forest\n\n- Two Paws Up Dog Training INC.\n\n- More to come...\n\n \n\nPlease be mindful of the current CDC recommendations and the guidelines listed below.\n\n1) Please stay home if you have any symptoms of COVID-19.\n\n2) Please wear masks.\n\n3) Please respect personal space and allow 6ft social distancing.\n\n4) Please wash your hands and use hand-sanitizer.
X-ALT-DESC;FMTTYPE=text/html:<div>Spring is on the way so we&rsquo\;re having a dog rescue day with Reach Rescue to celebrate!<br />\n&nbsp\;</div>\n\n<div>Bring yourself\, your dog and a friend out to Lake Shore H-D on March 14th from 2-4pm. Reach Rescue will have available dogs who are ready to find their forever home on site! Fork N Fry Mobile Poutine will be joining us to fill your bellies! Lake Shore Harley-Davidson will also be raffling of a Harley-Davidson dog swag basket for your 4 legged friend when you bring them along!<br />\n&nbsp\;</div>\n\n<div>Vendors who will be joining us:<br />\n- Law Tigers<br />\n- Lake Shore H.O.G<br />\n- Pure Primal<br />\n- Animal Hospital of West Lake Forest<br />\n- Two Paws Up Dog Training INC.<br />\n- More to come...<br />\n&nbsp\;</div>\n\n<div>Please be mindful of the current CDC recommendations and the guidelines listed below.<br />\n1) Please stay home if you have any symptoms of COVID-19.<br />\n2) Please wear masks.<br />\n3) Please respect personal space and allow 6ft social distancing.<br />\n4) Please wash your hands and use hand-sanitizer.</div>\n
LOCATION:Lake Shore Harley-Davidson
UID:e.1126.19910
SEQUENCE:3
DTSTAMP:20260425T214640Z
URL:https://business.lflbchamber.com/events/details/dog-rescue-event-with-reach-rescue-19910
END:VEVENT

END:VCALENDAR
