BEGIN:VCALENDAR
VERSION:2.0
PRODID:-//ChamberMaster//Event Calendar 2.0//EN
METHOD:PUBLISH
X-PUBLISHED-TTL:P3D
REFRESH-INTERVAL:P3D
CALSCALE:GREGORIAN
BEGIN:VEVENT
DTSTART;VALUE=DATE:20210328
DTEND;VALUE=DATE:20210329
TRANSP:TRANSPARENT
X-MICROSOFT-CDO-ALLDAYEVENT:TRUE
SUMMARY:Dogs & Suds
DESCRIPTION:Every Sunday Dogs & Suds!\n\nServing hot dogs and cold ones starting at noon until supplies last.\n\n \n\n*Please drink responsibly.\n\n______________________\n\nPlease be mindful of the current CDC recommendations and the guidelines listed below.\n\n1) Please stay home if you have any symptoms of COVID-19.\n\n2) Please wear masks.\n\n3) Please respect personal space and allow 6ft social distancing.\n\n4) Please wash your hands and use hand-sanitizer.
X-ALT-DESC;FMTTYPE=text/html:<div>Every Sunday Dogs &amp\; Suds!</div>\n\n<div>Serving hot dogs and cold ones starting at noon until supplies last.<br />\n&nbsp\;</div>\n\n<div>*Please drink responsibly.<br />\n______________________<br />\nPlease be mindful of the current CDC recommendations and the guidelines listed below.<br />\n1) Please stay home if you have any symptoms of COVID-19.<br />\n2) Please wear masks.<br />\n3) Please respect personal space and allow 6ft social distancing.<br />\n4) Please wash your hands and use hand-sanitizer.</div>\n
LOCATION:Lake Shore Harley-Davidson
UID:e.1126.19962
SEQUENCE:3
DTSTAMP:20260425T214504Z
URL:https://business.lflbchamber.com/events/details/dogs-suds-03-28-2021-19962
END:VEVENT

END:VCALENDAR
