BEGIN:VCALENDAR
VERSION:2.0
PRODID:-//ChamberMaster//Event Calendar 2.0//EN
METHOD:PUBLISH
X-PUBLISHED-TTL:P3D
REFRESH-INTERVAL:P3D
CALSCALE:GREGORIAN
BEGIN:VEVENT
DTSTART:20220517T140000Z
DTEND:20220517T153000Z
X-MICROSOFT-CDO-ALLDAYEVENT:FALSE
SUMMARY:Don't be taken by Surprise
DESCRIPTION:The future is NEVER a straight-line extension of the present. You and your team need to think and act in the future tense. This webinar highlights a six-part process and provides some "considerations" that can help you avoid surprises.
X-ALT-DESC;FMTTYPE=text/html:The future is NEVER a straight-line extension of the present. You and your team need to think and act in the future tense. This webinar highlights a six-part process and provides some &ldquo\;considerations&rdquo\; that can help you avoid surprises.
LOCATION:Virtual Live
UID:e.1126.21863
SEQUENCE:3
DTSTAMP:20260420T075303Z
URL:https://business.lflbchamber.com/events/details/don-t-be-taken-by-surprise-05-17-2022-21863
END:VEVENT

END:VCALENDAR
