BEGIN:VCALENDAR
VERSION:2.0
PRODID:-//ChamberMaster//Event Calendar 2.0//EN
METHOD:PUBLISH
X-PUBLISHED-TTL:P3D
REFRESH-INTERVAL:P3D
CALSCALE:GREGORIAN
BEGIN:VEVENT
DTSTART:20240105T170000Z
DTEND:20240105T180000Z
X-MICROSOFT-CDO-ALLDAYEVENT:FALSE
SUMMARY:Drive-In Movie
DESCRIPTION:Head on over to the Library to create your very own vehicle out of cardboard boxes and decorations. After your car is complete\, take it to the Library's drive-in movie theater and enjoy a short movie.\n\nOur Drive-In Movie program is for ages 3 - 6 with an adult. Registration is required.
X-ALT-DESC;FMTTYPE=text/html:<p>Head on over to the Library to create your very own vehicle out of cardboard boxes and decorations. After your car is complete\, take it to the Library&rsquo\;s drive-in movie theater and enjoy a short movie.</p>\n\n<p><strong>Our Drive-In Movie program is for ages 3 - 6 with an adult. Registration is required.</strong></p>\n
LOCATION:Lake Bluff Public Library 123 E. Scranton Ave. Lake Bluff\, IL. 60044
UID:e.1126.25836
SEQUENCE:3
DTSTAMP:20260424T084021Z
URL:https://business.lflbchamber.com/events/details/drive-in-movie-01-05-2024-25836
END:VEVENT

END:VCALENDAR
