BEGIN:VCALENDAR
VERSION:2.0
PRODID:-//ChamberMaster//Event Calendar 2.0//EN
METHOD:PUBLISH
X-PUBLISHED-TTL:P3D
REFRESH-INTERVAL:P3D
CALSCALE:GREGORIAN
BEGIN:VEVENT
DTSTART:20240706T160000Z
DTEND:20240706T170000Z
X-MICROSOFT-CDO-ALLDAYEVENT:FALSE
SUMMARY:Drop-In Messy Craft
DESCRIPTION:Bring your kid in for some messy fun at the library\, and we'll handle the clean up!  Smaller children will need the help of an adult.\n\nDrop-in Messy Craft is for ages 2-12. We will have another Drop-in Messy Craft on Saturday August 3rd at 11:00am
X-ALT-DESC;FMTTYPE=text/html:<p><span style="font-size:11pt">Bring your kid in for some messy fun at the library\, and we&rsquo\;ll handle the clean up!&nbsp\; Smaller children will need the help of an adult.</span></p>\n\n<p><span style="font-size:11pt">Drop-in Messy Craft is for ages 2-12. We will have another Drop-in Messy Craft on Saturday August 3rd at 11:00am</span></p>\n
LOCATION:Lake Bluff Public Library 123 E. Scranton Ave. Lake Bluff\, IL. 60044
UID:e.1126.27139
SEQUENCE:3
DTSTAMP:20260423T205442Z
URL:https://business.lflbchamber.com/events/details/drop-in-messy-craft-27139
END:VEVENT

END:VCALENDAR
