BEGIN:VCALENDAR
VERSION:2.0
PRODID:-//ChamberMaster//Event Calendar 2.0//EN
METHOD:PUBLISH
X-PUBLISHED-TTL:P3D
REFRESH-INTERVAL:P3D
CALSCALE:GREGORIAN
BEGIN:VEVENT
DTSTART:20231229T160000Z
DTEND:20231229T190000Z
X-MICROSOFT-CDO-ALLDAYEVENT:FALSE
SUMMARY:Drop-in Playtime
DESCRIPTION:Drop in to enjoy toys\, puppets\, LEGOs\, and more in the Children's Library!
X-ALT-DESC;FMTTYPE=text/html:<div>\n<p>Drop in to enjoy toys\, puppets\, LEGOs\, and more in the Children&#39\;s Library!</p>\n\n<div>&nbsp\;</div>\n</div>\n
LOCATION:Lake Forest Library 360 E Deerpath Rd Lake Forest\, IL 60045
UID:e.1126.25737
SEQUENCE:3
DTSTAMP:20260424T100255Z
URL:https://business.lflbchamber.com/events/details/drop-in-playtime-12-29-2023-25737
END:VEVENT

END:VCALENDAR
