BEGIN:VCALENDAR
VERSION:2.0
PRODID:-//ChamberMaster//Event Calendar 2.0//EN
METHOD:PUBLISH
X-PUBLISHED-TTL:P3D
REFRESH-INTERVAL:P3D
CALSCALE:GREGORIAN
BEGIN:VEVENT
DTSTART:20240616T190000Z
DTEND:20240616T210000Z
X-MICROSOFT-CDO-ALLDAYEVENT:FALSE
SUMMARY:Drop-in Teen Arts & Crafts
DESCRIPTION:Painting\, knitting\, or air dry clay! Stitching\, sketching\, or paper mach ! Drop in and bring your own project to work on or come empty-handed and learn a new hobby during this open studio period. Your Teen Librarian (and handicraft enthusiast!) will help you pick up a new skill or simply have fun while being creative.
X-ALT-DESC;FMTTYPE=text/html:<span style="font-family:gotham\,sans-serif\; font-size:14px">Painting\, knitting\, or air dry clay! Stitching\, sketching\, or paper mach&eacute\;! Drop in and bring your own project to work on or come empty-handed and learn a new hobby during this open studio period. Your Teen Librarian (and handicraft enthusiast!) will help you pick up a new skill or simply have fun while being creative.</span>
LOCATION:360 E Deerpath Rd Lake Forest\, IL 60045
UID:e.1126.26695
SEQUENCE:3
DTSTAMP:20260424T010750Z
URL:https://business.lflbchamber.com/events/details/drop-in-teen-arts-crafts-26695
END:VEVENT

END:VCALENDAR
