BEGIN:VCALENDAR
VERSION:2.0
PRODID:-//ChamberMaster//Event Calendar 2.0//EN
METHOD:PUBLISH
X-PUBLISHED-TTL:P3D
REFRESH-INTERVAL:P3D
CALSCALE:GREGORIAN
BEGIN:VEVENT
DTSTART:20250628T180000Z
DTEND:20250628T193000Z
X-MICROSOFT-CDO-ALLDAYEVENT:FALSE
SUMMARY:Dungeons & Dragons 101
DESCRIPTION:Join Steve Hurovitz from the acclaimed Dungeons & Dragons podcast Reckless Attack to explore the history of the game\, the basics of character building\, and the mechanics of gameplay   and even play a brief in-presentation campaign!\n\nDungeons & Dragons 101 is for ages 8+
X-ALT-DESC;FMTTYPE=text/html:<p>Join Steve Hurovitz from the acclaimed Dungeons &amp\; Dragons podcast Reckless Attack to explore the history of the game\, the basics of character building\, and the mechanics of gameplay &ndash\; and even play a brief in-presentation campaign!</p>\n\n<p><strong>Dungeons &amp\; Dragons 101 is for ages 8+</strong></p>\n
LOCATION:Lake Bluff Public Library 123 E. Scranton Ave. Lake Bluff\, IL. 60044
UID:e.1126.31010
SEQUENCE:3
DTSTAMP:20260424T083439Z
URL:https://business.lflbchamber.com/events/details/dungeons-dragons-101-31010
END:VEVENT

END:VCALENDAR
