BEGIN:VCALENDAR
VERSION:2.0
PRODID:-//ChamberMaster//Event Calendar 2.0//EN
METHOD:PUBLISH
X-PUBLISHED-TTL:P3D
REFRESH-INTERVAL:P3D
CALSCALE:GREGORIAN
BEGIN:VEVENT
DTSTART:20231223T000000Z
DTEND:20231223T020000Z
X-MICROSOFT-CDO-ALLDAYEVENT:FALSE
SUMMARY:Eleanor's Very Merry Christmas Wish: The Musical
DESCRIPTION:A musical holiday adventure for the whole family! Celebrate the holidays with Citadel and join us for Eleanor's Very Merry Christmas Wish: The Musical running December 20-31\, 2023!\n\n\n\nA holiday musical with heart\, humor and eight original songs\, Eleanor's Very Merry Christmas Wish - The Musical tells the story of a rag doll who lives in the magical world of the North Pole surrounded by Santa\, Mrs. Claus\, Clara Claus and the elves Twinkle\, Sprinkle and Sparkle. She loves her North Pole family but Eleanor's wish is for a best friend and home of her own.\n\n\n\nPlease Note: Performances are at 10:00 am\, 1:00 pm\, 3:00 pm\, and 6:00 pm depending on the performance date. There will be no performances 12/24/23 & 12/25/23. Get your tickets today: https://citadeltheatre.easy-ware-ticketing.com/eventsByProduction/A000000185
X-ALT-DESC;FMTTYPE=text/html:A musical holiday adventure for the whole family! Celebrate the holidays with Citadel and join us for Eleanor&#39\;s Very Merry Christmas Wish: The Musical running December 20-31\, 2023!<br />\n<br />\nA holiday musical with heart\, humor and eight original songs\, Eleanor&#39\;s Very Merry Christmas Wish - The Musical tells the story of a rag doll who lives in the magical world of the North Pole surrounded by Santa\, Mrs. Claus\, Clara Claus and the elves Twinkle\, Sprinkle and Sparkle. She loves her North Pole family but Eleanor&#39\;s wish is for a best friend and home of her own.<br />\n<br />\nPlease Note: Performances are at 10:00 am\, 1:00 pm\, 3:00 pm\, and 6:00 pm depending on the performance date. There will be no performances 12/24/23 &amp\; 12/25/23. Get your tickets today: https://citadeltheatre.easy-ware-ticketing.com/eventsByProduction/A000000185
LOCATION:Citadel Theatre (300 S. Waukegan Rd. Lake Forest\, IL 60045)
UID:e.1126.26084
SEQUENCE:3
DTSTAMP:20260424T100733Z
URL:https://business.lflbchamber.com/events/details/eleanor-s-very-merry-christmas-wish-the-musical-12-22-2023-26084
END:VEVENT

END:VCALENDAR
