BEGIN:VCALENDAR
VERSION:2.0
PRODID:-//ChamberMaster//Event Calendar 2.0//EN
METHOD:PUBLISH
X-PUBLISHED-TTL:P3D
REFRESH-INTERVAL:P3D
CALSCALE:GREGORIAN
BEGIN:VEVENT
DTSTART:20210329T140000Z
DTEND:20210329T150000Z
X-MICROSOFT-CDO-ALLDAYEVENT:FALSE
SUMMARY:Employee Retention Tax Credit
DESCRIPTION:Learn about a refundable tax credit for eligible employers equal to 50% of qualified wages (including allocable qualified health expenses). Join Mike Mudroncik\, Senior Stakeholder Liaison\, with the Internal Revenue Service to learn about a fully refundable tax credit for employers equal to 50 percent of qualified wages (including allocable qualified health plan expenses) that Eligible Employers pay their employees. Presentation is 50 minutes followed by a Q & A session. Participants will receive a copy of the PowerPoint.
X-ALT-DESC;FMTTYPE=text/html:Learn about a refundable tax credit for eligible employers equal to 50% of qualified wages (including allocable qualified health expenses). Join Mike Mudroncik\, Senior Stakeholder Liaison\, with the Internal Revenue Service to learn about a fully refundable tax credit for employers equal to 50 percent of qualified wages (including allocable qualified health plan expenses) that Eligible Employers pay their employees. Presentation is 50 minutes followed by a Q &amp\; A session. Participants will receive a copy of the PowerPoint.
LOCATION:Live Zoom
UID:e.1126.19937
SEQUENCE:3
DTSTAMP:20260425T214624Z
URL:https://business.lflbchamber.com/events/details/employee-retention-tax-credit-19937
END:VEVENT

END:VCALENDAR
