BEGIN:VCALENDAR
VERSION:2.0
PRODID:-//ChamberMaster//Event Calendar 2.0//EN
METHOD:PUBLISH
X-PUBLISHED-TTL:P3D
REFRESH-INTERVAL:P3D
CALSCALE:GREGORIAN
BEGIN:VEVENT
DTSTART:20250429T000000Z
DTEND:20250429T013000Z
X-MICROSOFT-CDO-ALLDAYEVENT:FALSE
SUMMARY:Environmental Stewardship: The Future of Public/Private Collaboration
DESCRIPTION:Open Space affects our quality of life. Hear what the future may hold for open space in Lake County from local experts. Please join the League of Women Voters of Lake Forest/Lake Bluff Area and the League of Women Voters of Lake County\, on Monday\, April 28\, from 7:00 pm at Gorton Community Center\, 400 E. Illinois Rd\, Lake Forest. DOORS OPEN AT 6:45 PM This event is free and open to our entire community We hope you'll join us. Our Panelists:   Sandy Hart\, Chair of Lake County Board   Ty Kovach\, Executive Director of Lake County Forest Preserves   Ryan London\, President & CEO of Lake Forest Open Lands   Rebekah Snyder\, Director of Community Engagement and Partnerships\, Lake County Forest Preserves   Jessica Vealitzek\, President of Lake County Forest Preserves Our Moderator: Melanie Rummel Our Topic:   The collaborative process across: the origin of the Lake County Forest Preserves referendum\; the road to the vote\; the utilization of funds\; the impact on local governments\, non profits\, and residents.
X-ALT-DESC;FMTTYPE=text/html:Open Space affects our quality of life. Hear what the future may hold for open space in Lake County from local experts. Please join the League of Women Voters of Lake Forest/Lake Bluff Area and the League of Women Voters of Lake County\, on Monday\, April 28\, from 7:00 pm at Gorton Community Center\, 400 E. Illinois Rd\, Lake Forest. DOORS OPEN AT 6:45 PM This event is free and open to our entire community We hope you&#39\;ll join us. Our Panelists: &bull\; Sandy Hart\, Chair of Lake County Board &bull\; Ty Kovach\, Executive Director of Lake County Forest Preserves &bull\; Ryan London\, President &amp\; CEO of Lake Forest Open Lands &bull\; Rebekah Snyder\, Director of Community Engagement and Partnerships\, Lake County Forest Preserves &bull\; Jessica Vealitzek\, President of Lake County Forest Preserves Our Moderator: Melanie Rummel Our Topic: &bull\; The collaborative process across: the origin of the Lake County Forest Preserves referendum\; the road to the vote\; the utilization of funds\; the impact on local governments\, non profits\, and residents.
LOCATION:Gorton Community Center\, 400 E. Illinois Rd.\, Lake Forest
UID:e.1126.30701
SEQUENCE:3
DTSTAMP:20260424T041345Z
URL:https://business.lflbchamber.com/events/details/environmental-stewardship-the-future-of-public-private-collaboration-30701
END:VEVENT

END:VCALENDAR
