BEGIN:VCALENDAR
VERSION:2.0
PRODID:-//ChamberMaster//Event Calendar 2.0//EN
METHOD:PUBLISH
X-PUBLISHED-TTL:P3D
REFRESH-INTERVAL:P3D
CALSCALE:GREGORIAN
BEGIN:VEVENT
DTSTART:20250611T233000Z
DTEND:20250612T010000Z
X-MICROSOFT-CDO-ALLDAYEVENT:FALSE
SUMMARY:Essentials of Small Business Lending
DESCRIPTION:Gain a clear understanding of small business loan qualifications and explore key insights on SBA lending options.
X-ALT-DESC;FMTTYPE=text/html:<!--StartFragment--><span data-olk-copy-source="MessageBody" style="margin: 0px\;">Gain a clear understanding of small business loan qualifications and explore key insights on SBA lending options.</span><!--EndFragment-->
LOCATION:Zoom
UID:e.1126.31367
SEQUENCE:3
DTSTAMP:20260424T081837Z
URL:https://business.lflbchamber.com/events/details/essentials-of-small-business-lending-31367
END:VEVENT

END:VCALENDAR
