BEGIN:VCALENDAR
VERSION:2.0
PRODID:-//ChamberMaster//Event Calendar 2.0//EN
METHOD:PUBLISH
X-PUBLISHED-TTL:P3D
REFRESH-INTERVAL:P3D
CALSCALE:GREGORIAN
BEGIN:VEVENT
DTSTART:20250429T223000Z
DTEND:20250430T000000Z
X-MICROSOFT-CDO-ALLDAYEVENT:FALSE
SUMMARY:Evening with basketball legend Bill Cartwright
DESCRIPTION:The Lake Forest Book Store invites you to an evening with basketball legend\, Bill Cartwright while he discusses his new book\, "Living Life at the Center." \n\nAdults $40 (Ticket includes a glass of wine and passed apps)\n\nKids $25 (Ticket includes passed apps)\n\nBooks available for purchase
X-ALT-DESC;FMTTYPE=text/html:<p>The Lake Forest Book Store invites you to an evening with basketball legend\,&nbsp\;Bill Cartwright while he discusses his new book\, &quot\;Living Life at the Center.&quot\;&nbsp\;</p>\n\n<p>Adults $40 (Ticket includes a glass of wine and passed apps)</p>\n\n<p>Kids $25 (Ticket includes passed apps)</p>\n\n<p>Books available for purchase</p>\n
LOCATION:Froggy's French Cafe 306 Green Bay Road Highwood\, IL 60040
UID:e.1126.30695
SEQUENCE:3
DTSTAMP:20260424T040748Z
URL:https://business.lflbchamber.com/events/details/evening-with-basketball-legend-bill-cartwright-30695
END:VEVENT

END:VCALENDAR
