BEGIN:VCALENDAR
VERSION:2.0
PRODID:-//ChamberMaster//Event Calendar 2.0//EN
METHOD:PUBLISH
X-PUBLISHED-TTL:P3D
REFRESH-INTERVAL:P3D
CALSCALE:GREGORIAN
BEGIN:VEVENT
DTSTART:20210225T140000Z
DTEND:20210225T180000Z
X-MICROSOFT-CDO-ALLDAYEVENT:FALSE
SUMMARY:Excel Advanced
DESCRIPTION:Learn the advanced functions of Microsoft Excel including sorting and filtering\, creating subtotals\, generating PivotTables to summarizing and analyzing your data. Discover how to create pivot table reports\, show values as percentages\, filter pivot table data and much more.
X-ALT-DESC;FMTTYPE=text/html:Learn the advanced functions of Microsoft Excel including sorting and filtering\, creating subtotals\, generating PivotTables to summarizing and analyzing your data. Discover how to create pivot table reports\, show values as percentages\, filter pivot table data and much more.
LOCATION:Zoom
UID:e.1126.19842
SEQUENCE:3
DTSTAMP:20260425T110516Z
URL:https://business.lflbchamber.com/events/details/excel-advanced-02-25-2021-19842
END:VEVENT

END:VCALENDAR
