BEGIN:VCALENDAR
VERSION:2.0
PRODID:-//ChamberMaster//Event Calendar 2.0//EN
METHOD:PUBLISH
X-PUBLISHED-TTL:P3D
REFRESH-INTERVAL:P3D
CALSCALE:GREGORIAN
BEGIN:VEVENT
DTSTART:20210330T130000Z
DTEND:20210330T170000Z
X-MICROSOFT-CDO-ALLDAYEVENT:FALSE
SUMMARY:Excel Beginner
DESCRIPTION:This course will take you from the very beginning (opening a spreadsheet)\, through entering and working with data\, and finish with saving and sharing. It's everything you need to know to get started with Excel\; getting started with Excel\, Entering text and numbers\, basic formatting customizing excel\, modifying worksheets\, entering excel functions\, and more. Course will be taught using Excel 2016 but applicable to older versions which may not have some of the newer features.
X-ALT-DESC;FMTTYPE=text/html:This course will take you from the very beginning (opening a spreadsheet)\, through entering and working with data\, and finish with saving and sharing. It&rsquo\;s everything you need to know to get started with Excel\; getting started with Excel\, Entering text and numbers\, basic formatting customizing excel\, modifying worksheets\, entering excel functions\, and more. Course will be taught using Excel 2016 but applicable to older versions which may not have some of the newer features.
LOCATION:Live Zoom
UID:e.1126.19953
SEQUENCE:3
DTSTAMP:20260425T214255Z
URL:https://business.lflbchamber.com/events/details/excel-beginner-03-30-2021-19953
END:VEVENT

END:VCALENDAR
