BEGIN:VCALENDAR
VERSION:2.0
PRODID:-//ChamberMaster//Event Calendar 2.0//EN
METHOD:PUBLISH
X-PUBLISHED-TTL:P3D
REFRESH-INTERVAL:P3D
CALSCALE:GREGORIAN
BEGIN:VEVENT
DTSTART:20210325T130000Z
DTEND:20210325T170000Z
X-MICROSOFT-CDO-ALLDAYEVENT:FALSE
SUMMARY:Excel Pivot Tables
DESCRIPTION:PivotTables can help you sort and sift through large data sets to focus quickly on just the data elements that matter most to your specific needs. In just one fast-paced and informative 4-hour training session\, you will learn how to use PivotTables to sort your data more efficiently\, create multiple customized reports in a few easy steps and gain a powerful new tool to help you make better business decisions. Get tips on the easiest way to group your data - when you use the power of PivotTables\, you will be saving time and making your job easier!
X-ALT-DESC;FMTTYPE=text/html:PivotTables can help you sort and sift through large data sets to focus quickly on just the data elements that matter most to your specific needs. In just one fast-paced and informative 4-hour training session\, you will learn how to use PivotTables to sort your data more efficiently\, create multiple customized reports in a few easy steps and gain a powerful new tool to help you make better business decisions. Get tips on the easiest way to group your data - when you use the power of PivotTables\, you will be saving time and making your job easier!
LOCATION:Zoom
UID:e.1126.19844
SEQUENCE:3
DTSTAMP:20260425T230249Z
URL:https://business.lflbchamber.com/events/details/excel-pivot-tables-19844
END:VEVENT

END:VCALENDAR
