BEGIN:VCALENDAR
VERSION:2.0
PRODID:-//ChamberMaster//Event Calendar 2.0//EN
METHOD:PUBLISH
X-PUBLISHED-TTL:P3D
REFRESH-INTERVAL:P3D
CALSCALE:GREGORIAN
BEGIN:VEVENT
DTSTART:20190501T000000Z
DTEND:20190501T013000Z
X-MICROSOFT-CDO-ALLDAYEVENT:FALSE
SUMMARY:EXPAND YOUR CONNECTIONS – Building Your Network
DESCRIPTION:Facilitated by: Michael Gallego\, Account Manager\, SmithBucklin\n\nUnderstanding how to effectively develop connections is the key to success. It's not about asking for a job\, it's about talking with others about common interests and how you may be able to help each other. This is an opportunity to meet and connect with individuals from different industries and disciplines. Show up to this session and you may find new information and connections. Come with specifics on what you are looking for and leave with new leads to follow up on. Bring your inventive ideas\, handbills\, and business cards. \n\n          Michael Gallego is an Account Manager at SmithBucklin.  Previously\, he spent seven years in the nonprofit sector as a fundraising officer for both a small regional nonprofit and a large national nonprofit.  He has a BA from the University of California at Davis and a MA from the University of Chicago.
X-ALT-DESC;FMTTYPE=text/html:Facilitated by:&nbsp\;<span style="font-family:tahoma\,sans-serif"><span style="font-size:12.0pt">Michael Gallego\, Account Manager\, SmithBucklin</span><br />\nUnderstanding how to effectively develop connections is the key to success. It&rsquo\;s not about asking for a job\, it&rsquo\;s about talking with others about common interests and how you may be able to help each other. This is an opportunity to meet and connect with individuals from different industries and disciplines. Show up to this session and you may find new information and connections. Come with specifics on what you are looking for and leave with new leads to follow up on. Bring your inventive ideas\, handbills\, and business cards. </span><br />\n<span style="font-family:tahoma\,sans-serif">&nbsp\;&nbsp\;&nbsp\;&nbsp\;&nbsp\;&nbsp\;&nbsp\;&nbsp\;&nbsp\; Michael Gallego is an Account Manager at SmithBucklin.&nbsp\; Previously\, he spent seven years in the nonprofit sector as a fundraising officer for both a small regional nonprofit and a large national nonprofit.&nbsp\; He has a BA from the University of California at Davis and a MA from the University of Chicago.</span><br />\n&nbsp\;
LOCATION:Career Resource Center Grove Cultural Campus 40 E. Old Mill Road Lake Forest\, IL 60045
UID:e.1126.17672
SEQUENCE:3
DTSTAMP:20260424T084926Z
URL:https://business.lflbchamber.com/events/details/expand-your-connections-building-your-network-04-30-2019-17672
END:VEVENT

END:VCALENDAR
