BEGIN:VCALENDAR
VERSION:2.0
PRODID:-//ChamberMaster//Event Calendar 2.0//EN
METHOD:PUBLISH
X-PUBLISHED-TTL:P3D
REFRESH-INTERVAL:P3D
CALSCALE:GREGORIAN
BEGIN:VEVENT
DTSTART:20190612T000000Z
DTEND:20190612T013000Z
X-MICROSOFT-CDO-ALLDAYEVENT:FALSE
SUMMARY:EXPAND YOUR CONNECTIONS – Building Your Network
DESCRIPTION:Facilitated by: Marc Silver\, Partner\, Barnes & Thornburg\, LLP\n\nUnderstanding how to effectively develop connections is the key to success. It's not about asking for a job\, it's about talking with others about common interests and how you may be able to help each other. This is an opportunity to meet and connect with individuals from different industries and disciplines. Show up to this session and you will gain new ideas and make new connections. Come with specifics on what you are looking for and leave with new leads to follow up on. Bring your inventive ideas\, handbills\, and business cards. \n\nMarc S. Silver is a partner in the Chicago office of Barnes & Thornburg\, LLP and a member of the firm's Litigation Department and White Collar Crime Defense Practice Group. He represents individuals\, business entities\, and nonprofit organizations in complex litigation matters throughout the country. Mr. Silver concentrates his practice on resolving corporate and commercial disputes. Mr. Silver received his JD degree cum laude from the University of Illinois College of Law after graduating cum laude from the University of Rochester.
X-ALT-DESC;FMTTYPE=text/html:Facilitated by:&nbsp\;<span style="font-family:tahoma\,sans-serif"><span style="font-size:12.0pt">Marc Silver\, Partner\, Barnes &amp\; Thornburg\, LLP</span><br />\nUnderstanding how to effectively develop connections is the key to success. It&rsquo\;s not about asking for a job\, it&rsquo\;s about talking with others about common interests and how you may be able to help each other. This is an opportunity to meet and connect with individuals from different industries and disciplines. Show up to this session and you will gain new ideas and make new connections. Come with specifics on what you are looking for and leave with new leads to follow up on. Bring your inventive ideas\, handbills\, and business cards. </span><br />\n<span style="font-family:tahoma\,sans-serif">Marc S. Silver is a partner in the Chicago office of Barnes &amp\; Thornburg\, LLP and a member of the firm&rsquo\;s Litigation Department and White Collar Crime Defense Practice Group. He represents individuals\, business entities\, and nonprofit organizations in complex litigation matters throughout the country. Mr. Silver concentrates his practice on resolving corporate and commercial disputes. Mr. Silver received his JD degree cum laude from the University of Illinois College of Law after graduating cum laude from the University of Rochester.&nbsp\; </span><br />\n&nbsp\;<br />\n&nbsp\;
LOCATION:Career Resource Center Grove Cultural Campus 40 E. Old Mill Road Lake Forest\, IL 60045
UID:e.1126.17878
SEQUENCE:3
DTSTAMP:20260424T055419Z
URL:https://business.lflbchamber.com/events/details/expand-your-connections-building-your-network-06-11-2019-17878
END:VEVENT

END:VCALENDAR
