BEGIN:VCALENDAR
VERSION:2.0
PRODID:-//ChamberMaster//Event Calendar 2.0//EN
METHOD:PUBLISH
X-PUBLISHED-TTL:P3D
REFRESH-INTERVAL:P3D
CALSCALE:GREGORIAN
BEGIN:VEVENT
DTSTART:20240111T010000Z
DTEND:20240111T020000Z
X-MICROSOFT-CDO-ALLDAYEVENT:FALSE
SUMMARY:Fabulous Films of the '80s
DESCRIPTION:Register and join Steven Frenzel on Zoom so we can like totally immerse ourselves in the most rad decade full of aliens\, archaeologists\, time travelers\, and teen angst. Enjoy music and behind-the-scenes stories from films including Caddyshack\, Poltergeist\, An Officer and a Gentleman\, Sixteen Candles\, Beetlejuice\, Top Gun\, When Harry Met Sally\, Say Anything\, and many more. So do the right thing and phone home and tell everyone you'll be moonstruck by your fatal attraction to this interactive film presentation!
X-ALT-DESC;FMTTYPE=text/html:<span style="font-family:gotham\,sans-serif\; font-size:14px">Register and join Steven Frenzel on Zoom so we can like totally immerse ourselves in the most rad decade full of aliens\, archaeologists\, time travelers\, and teen angst. Enjoy music and behind-the-scenes stories from films including&nbsp\;</span><em>Caddyshack\, Poltergeist\, An Officer and a Gentleman\, Sixteen Candles\, Beetlejuice\, Top Gun\, When Harry Met Sally\, Say Anything\,</em><span style="font-family:gotham\,sans-serif\; font-size:14px">&nbsp\;and many more. So do the right thing and phone home and tell everyone you&#39\;ll be moonstruck by your fatal attraction to this interactive film presentation!</span>
LOCATION:Lake Forest Library Zoom
UID:e.1126.26081
SEQUENCE:3
DTSTAMP:20260424T082045Z
URL:https://business.lflbchamber.com/events/details/fabulous-films-of-the-80s-26081
END:VEVENT

END:VCALENDAR
