BEGIN:VCALENDAR
VERSION:2.0
PRODID:-//ChamberMaster//Event Calendar 2.0//EN
METHOD:PUBLISH
X-PUBLISHED-TTL:P3D
REFRESH-INTERVAL:P3D
CALSCALE:GREGORIAN
BEGIN:VEVENT
DTSTART:20190415T170000Z
DTEND:20190520T170000Z
X-MICROSOFT-CDO-ALLDAYEVENT:FALSE
SUMMARY:Fencing lessons for Kids
DESCRIPTION:The Olympic sport of fencing demands quick thinking\, agility\, poise and speed. Fencing also develops discipline\, respect\, maturity and good sportsmanship\, qualities that carry through to our every day life. This class is for those new to fencing or those who would like to work on the basic fencing skills. This class will cover basic rules\, etiquette\, footwork\, attacks and defenses. Classes will consist of warm-up\, footwork\, group lesson and bouting. All equipment will be provided by the instructor. Classes are taught by the Midwest Fencing Club Ages 7-14
X-ALT-DESC;FMTTYPE=text/html:The Olympic sport of fencing demands quick thinking\, agility\, poise and speed. Fencing also develops discipline\, respect\, maturity and good sportsmanship\, qualities that carry through to our every day life. This class is for those new to fencing or those who would like to work on the basic fencing skills. This class will cover basic rules\, etiquette\, footwork\, attacks and defenses. Classes will consist of warm-up\, footwork\, group lesson and bouting. All equipment will be provided by the instructor. Classes are taught by the Midwest Fencing Club Ages 7-14
LOCATION:Gorton Community Center 400 E. Illinois Road\, Lake Forest\, IL 60045
UID:e.1126.17693
SEQUENCE:3
DTSTAMP:20260424T071431Z
URL:https://business.lflbchamber.com/events/details/fencing-lessons-for-kids-17693
END:VEVENT

END:VCALENDAR
