BEGIN:VCALENDAR
VERSION:2.0
PRODID:-//ChamberMaster//Event Calendar 2.0//EN
METHOD:PUBLISH
X-PUBLISHED-TTL:P3D
REFRESH-INTERVAL:P3D
CALSCALE:GREGORIAN
BEGIN:VEVENT
DTSTART:20231216T220000Z
DTEND:20231217T010000Z
X-MICROSOFT-CDO-ALLDAYEVENT:FALSE
SUMMARY:Finals Week Study Sessions
DESCRIPTION:The Library's Spruth Room will be available as a dedicated study space during finals week at LFHS. Refreshments and studying supplies will be available Monday through Wednesday from 4 to 7pm. While this event is scheduled during finals week at LFHS\, students from any high school are welcome to attend.
X-ALT-DESC;FMTTYPE=text/html:<span style="background-color:rgb(255\, 255\, 255)\; color:rgb(51\, 51\, 51)\; font-family:arial\,helvetica\,verdana\; font-size:14px">The Library&rsquo\;s Spruth Room will be available as a dedicated study space during finals week at LFHS. Refreshments and studying supplies will be available Monday through Wednesday from 4 to 7pm. While this event is scheduled during finals week at LFHS\, students from any high school are welcome to attend.</span>
LOCATION:Lake Bluff Public Library 123 E. Scranton Ave. Lake Bluff\, IL. 60044
UID:e.1126.25829
SEQUENCE:3
DTSTAMP:20260424T095858Z
URL:https://business.lflbchamber.com/events/details/finals-week-study-sessions-25829
END:VEVENT

END:VCALENDAR
