BEGIN:VCALENDAR
VERSION:2.0
PRODID:-//ChamberMaster//Event Calendar 2.0//EN
METHOD:PUBLISH
X-PUBLISHED-TTL:P3D
REFRESH-INTERVAL:P3D
CALSCALE:GREGORIAN
BEGIN:VEVENT
DTSTART;VALUE=DATE:20240610
DTEND;VALUE=DATE:20240611
TRANSP:TRANSPARENT
X-MICROSOFT-CDO-ALLDAYEVENT:TRUE
SUMMARY:First Day of Summer School\, LF65
DESCRIPTION:First Day of Summer School\, Lake Bluff District 65
X-ALT-DESC;FMTTYPE=text/html:First Day of Summer School\, Lake Bluff District 65
LOCATION:
UID:e.1126.27518
SEQUENCE:3
DTSTAMP:20260424T010912Z
URL:https://business.lflbchamber.com/events/details/first-day-of-summer-school-lf65-27518
END:VEVENT

END:VCALENDAR
