BEGIN:VCALENDAR
VERSION:2.0
PRODID:-//ChamberMaster//Event Calendar 2.0//EN
METHOD:PUBLISH
X-PUBLISHED-TTL:P3D
REFRESH-INTERVAL:P3D
CALSCALE:GREGORIAN
BEGIN:VEVENT
DTSTART:20260523T150000Z
DTEND:20260523T170000Z
X-MICROSOFT-CDO-ALLDAYEVENT:FALSE
SUMMARY:Flag Placement on Veteran's Graves
DESCRIPTION:Come out and help place flags on the graves of veterans for Memorial Day
X-ALT-DESC;FMTTYPE=text/html:Come out and help place flags on the graves of veterans for Memorial Day
LOCATION:Ft. Sheridan National Cemetery
UID:e.1126.34019
SEQUENCE:3
DTSTAMP:20260424T235413Z
URL:https://business.lflbchamber.com/events/details/flag-placement-on-veteran-s-graves-34019
END:VEVENT

END:VCALENDAR
