BEGIN:VCALENDAR
VERSION:2.0
PRODID:-//ChamberMaster//Event Calendar 2.0//EN
METHOD:PUBLISH
X-PUBLISHED-TTL:P3D
REFRESH-INTERVAL:P3D
CALSCALE:GREGORIAN
BEGIN:VEVENT
DTSTART:20240618T210000Z
DTEND:20240618T230000Z
X-MICROSOFT-CDO-ALLDAYEVENT:FALSE
SUMMARY:Focus Group: Planning for the Future of Lake Bluff Library
DESCRIPTION:Our Focus Group is for Adults and Teens Ages 13+\n\nParticipate in a facilitated conversation with library leadership and architects about the needs of the Library. Receive a building-wide tour and provide feedback that will be incorporated into the Library?s Strategic Facility Plan. Sponsored in part by the Reaching Across Illinois Libraries System (RAILS) My Library Is Grant. Registration required.\n\n\n\nIf you can't make the morning Focus Group\, we will have another one from 4-6pm on Tuesday June 18th
X-ALT-DESC;FMTTYPE=text/html:<p><span style="font-size:11pt"><span style="font-family:calibri\,sans-serif"><strong>Our Focus Group is for Adults and Teens Ages 13+</strong></span></span></p>\n\n<p><span style="font-size:11pt">Participate in a facilitated conversation with library leadership and architects about the needs of the Library. Receive a building-wide tour and provide feedback that will be incorporated into the Library?s Strategic Facility Plan. Sponsored in part by the</span><span style="font-size:11pt">&nbsp\;Reaching Across Illinois Libraries System (RAILS) My Library Is Grant. Registration required.<br>\n<br>\nIf you can't make the morning Focus Group\, we will have another one from 4-6pm on Tuesday June 18th</span></p>\n
LOCATION:Lake Bluff Public Library 123 E. Scranton Ave. Lake Bluff\, IL. 60044
UID:e.1126.27131
SEQUENCE:3
DTSTAMP:20260424T011003Z
URL:https://business.lflbchamber.com/events/details/focus-group-planning-for-the-future-of-lake-bluff-library-06-19-2024-27131
END:VEVENT

END:VCALENDAR
