BEGIN:VCALENDAR
VERSION:2.0
PRODID:-//ChamberMaster//Event Calendar 2.0//EN
METHOD:PUBLISH
X-PUBLISHED-TTL:P3D
REFRESH-INTERVAL:P3D
CALSCALE:GREGORIAN
BEGIN:VEVENT
DTSTART:20190928T143000Z
DTEND:20190928T153000Z
X-MICROSOFT-CDO-ALLDAYEVENT:FALSE
SUMMARY:Free Body & Brain Basic Yoga Class
DESCRIPTION:RELIEVE STRESS\, DEVELOP YOUR STRENGTH\, FLEXIBILITY\, BREATHING\, AND ENERGY WITH OUR BODY & BRAIN YOGA CLASSES! \n\n\n\nOur yoga classes offer a variety of stretches\, exercises and poses\, helping keep your practice enjoyable and dynamic while consistently covering the basics of the mind and body connection. Each Body & Brain yoga class helps center your awareness inside yourself. Through our signature breathing postures you will accumulate energy and strengthen your core\, leaving you feeling recharged\, relaxed\, and refreshed.
X-ALT-DESC;FMTTYPE=text/html:<span style="color:rgb(34\, 34\, 34)\; font-family:arial\,helvetica\,sans-serif\; font-size:small">RELIEVE STRESS\, DEVELOP YOUR STRENGTH\, FLEXIBILITY\, BREATHING\, AND ENERGY WITH OUR BODY &amp\; BRAIN YOGA CLASSES!&nbsp\;<br />\n<br />\nOur yoga classes offer a variety of stretches\, exercises and poses\, helping keep your practice enjoyable and dynamic while consistently covering the basics of the mind and body connection. Each Body &amp\; Brain yoga class helps center your awareness inside yourself. Through our signature breathing postures you will accumulate energy and strengthen your core\, leaving you feeling recharged\, relaxed\, and refreshed.</span>
LOCATION:860 S. Milwaukee Ave.\, Libertyville\, IL\, 60048 Located in Cambridge Plaza
UID:e.1126.18199
SEQUENCE:3
DTSTAMP:20260424T012354Z
URL:https://business.lflbchamber.com/events/details/free-body-brain-basic-yoga-class-18199
END:VEVENT

END:VCALENDAR
