BEGIN:VCALENDAR
VERSION:2.0
PRODID:-//ChamberMaster//Event Calendar 2.0//EN
METHOD:PUBLISH
X-PUBLISHED-TTL:P3D
REFRESH-INTERVAL:P3D
CALSCALE:GREGORIAN
BEGIN:VEVENT
DTSTART:20190503T220000Z
DTEND:20190504T000000Z
X-MICROSOFT-CDO-ALLDAYEVENT:FALSE
SUMMARY:Friday NIght Supper Club for Kids!
DESCRIPTION:Kid?s Night Out! Learn how to prepare wonderful meals with Krisitn Ryan and then join your friends and fellow chefs for dinner!\nFriday\, May 3: Mexican Night\, enchiladas\, deluxe nachos\, tortilla soup and tres leches cake
X-ALT-DESC;FMTTYPE=text/html:Kid?s Night Out! Learn how to prepare wonderful meals with Krisitn Ryan and then join your friends and fellow chefs for dinner!\nFriday\, May 3: Mexican Night\, enchiladas\, deluxe nachos\, tortilla soup and tres leches cake
LOCATION:Gorton Community Center 400 E. Illinois Road\, Lake Forest\, IL 60045
UID:e.1126.17833
SEQUENCE:3
DTSTAMP:20260424T084759Z
URL:https://business.lflbchamber.com/events/details/friday-night-supper-club-for-kids-17833
END:VEVENT

END:VCALENDAR
