BEGIN:VCALENDAR
VERSION:2.0
PRODID:-//ChamberMaster//Event Calendar 2.0//EN
METHOD:PUBLISH
X-PUBLISHED-TTL:P3D
REFRESH-INTERVAL:P3D
CALSCALE:GREGORIAN
BEGIN:VEVENT
DTSTART:20190614T133000Z
DTEND:20190614T200000Z
X-MICROSOFT-CDO-ALLDAYEVENT:FALSE
SUMMARY:Garden Walk
DESCRIPTION:The Junior Garden Club of Lake Forest graciously invites you to our "East Meets West Lake Forest Garden Walk" on Friday\, June 14\, 2019. Tour five beautiful gardens on this self guided tour\, which is the club's primary fundraiser and occurs biennually to benefit local conservation\, civic beautification\, and education in gardening efforts. An open seating buffett luncheon at Onwentsia Club will take from noon to 1:30pm. Be sure to check out the last stop on the tour -- a unique Garden's Boutique at the luncheon venue. Tickets will be held at Check In. Any nature lovel or gardener of any level experience will appreciate this unique mix of never seen before gardens.
X-ALT-DESC;FMTTYPE=text/html:The Junior Garden Club of Lake Forest graciously invites you to our &quot\;East Meets West Lake Forest Garden Walk&quot\; on Friday\, June 14\, 2019. Tour five beautiful gardens on this self guided tour\, which is the club&#39\;s primary fundraiser and occurs biennually to benefit local conservation\, civic beautification\, and education in gardening efforts. An open seating buffett luncheon at Onwentsia Club will take from noon to 1:30pm. Be sure to check out the last stop on the tour -- a unique Garden&#39\;s Boutique at the luncheon venue. Tickets will be held at Check In. Any nature lovel or gardener of any level experience will appreciate this unique mix of never seen before gardens.
LOCATION:Onwenstia Club\, 300 Green Bay Rd\, Lake Forest\, IL 60045
UID:e.1126.17603
SEQUENCE:3
DTSTAMP:20260424T071251Z
URL:https://business.lflbchamber.com/events/details/garden-walk-17603
END:VEVENT

END:VCALENDAR
