BEGIN:VCALENDAR
VERSION:2.0
PRODID:-//ChamberMaster//Event Calendar 2.0//EN
METHOD:PUBLISH
X-PUBLISHED-TTL:P3D
REFRESH-INTERVAL:P3D
CALSCALE:GREGORIAN
BEGIN:VEVENT
DTSTART:20231222T200000Z
DTEND:20231222T210000Z
X-MICROSOFT-CDO-ALLDAYEVENT:FALSE
SUMMARY:Gingerbread House Decorating
DESCRIPTION:Join us and make your own graham cracker gingerbread house. All materials will be provided...just bring your creativity!\n\nGingerbread House Decorating is for ages 5 - 10. Registration is required.
X-ALT-DESC;FMTTYPE=text/html:<p>Join us and make your own graham cracker gingerbread house. All materials will be provided...just bring your creativity!</p>\n\n<p><strong>Gingerbread House Decorating is for ages 5 - 10. Registration is required.</strong></p>\n
LOCATION:Lake Bluff Public Library 123 E. Scranton Ave. Lake Bluff\, IL. 60044
UID:e.1126.25834
SEQUENCE:3
DTSTAMP:20260424T100329Z
URL:https://business.lflbchamber.com/events/details/gingerbread-house-decorating-12-22-2023-25834
END:VEVENT

END:VCALENDAR
