BEGIN:VCALENDAR
VERSION:2.0
PRODID:-//ChamberMaster//Event Calendar 2.0//EN
METHOD:PUBLISH
X-PUBLISHED-TTL:P3D
REFRESH-INTERVAL:P3D
CALSCALE:GREGORIAN
BEGIN:VEVENT
DTSTART:20240613T130000Z
DTEND:20240614T010000Z
X-MICROSOFT-CDO-ALLDAYEVENT:FALSE
SUMMARY:GLASA Great Lakes Games
DESCRIPTION:Hundreds of athletes with disabilities are experiencing the power of sport and realizing their true potential by competing at the 2024 GLASA Great Lakes Games in partnership with The Hartford\, taking place in Lake Forest\, IL on June 13-16.\n\n\n\nWith the organization in its 25th year serving the Chicagoland community\, the 2024 Great Lakes Adaptive Sports Association (GLASA) event will include sanctioned competitions in archery\, boccia\, powerlifting\, shooting\, swim\, track and field in addition to opportunities for those new to adaptive sports to learn to play through free clinics offered in swim\, pickleball\, wheelchair tennis\, wheelchair football and more.
X-ALT-DESC;FMTTYPE=text/html:Hundreds of athletes with disabilities are experiencing the power of sport and realizing their true potential by competing at the 2024 GLASA Great Lakes Games in partnership with The Hartford\, taking place in Lake Forest\, IL on June 13-16.<br />\n<br />\nWith the organization in its 25th year serving the Chicagoland community\, the 2024 Great Lakes Adaptive Sports Association (GLASA) event will include sanctioned competitions in archery\, boccia\, powerlifting\, shooting\, swim\, track and field in addition to opportunities for those new to adaptive sports to learn to play through free clinics offered in swim\, pickleball\, wheelchair tennis\, wheelchair football and more.
LOCATION:LFHS: Lake Forest High School: 1285 McKinley Rd.\, Lake Forest\, IL North Shore Sports Club: 28392 N. Ballard Dr.\, Lake Forest Host Hotel: The Forester: 200 N. Field Drive\, Lake Forest\, IL A.C. Nielsen Tennis Center: 530 Hibbard Road\, Winnetka\, IL Loyola Academy: 1100 Laramie Ave.\, Wilmette\, IL
UID:e.1126.27077
SEQUENCE:3
DTSTAMP:20260424T010609Z
URL:https://business.lflbchamber.com/events/details/glasa-great-lakes-games-27077
END:VEVENT

END:VCALENDAR
