BEGIN:VCALENDAR
VERSION:2.0
PRODID:-//ChamberMaster//Event Calendar 2.0//EN
METHOD:PUBLISH
X-PUBLISHED-TTL:P3D
REFRESH-INTERVAL:P3D
CALSCALE:GREGORIAN
BEGIN:VEVENT
DTSTART:20190622T150000Z
DTEND:20190622T180000Z
X-MICROSOFT-CDO-ALLDAYEVENT:FALSE
SUMMARY:GO Color Lake Bluff
DESCRIPTION:The First Annual GO Color Lake Bluff 5K Run/3K Walk on June 22. Participants\, in the untimed color run/walk\, will be doused with a rainbow of colors along the route and more colors at the after party. Food vendors\, too!
X-ALT-DESC;FMTTYPE=text/html:The First Annual GO Color Lake Bluff 5K Run/3K Walk on June 22. Participants\, in the untimed color run/walk\, will be doused with a rainbow of colors along the route and more colors at the after party. Food vendors\, too!
LOCATION:Lake Bluff Train Station
UID:e.1126.17865
SEQUENCE:3
DTSTAMP:20260424T071605Z
URL:https://business.lflbchamber.com/events/details/go-color-lake-bluff-06-22-2019-17865
END:VEVENT

END:VCALENDAR
