BEGIN:VCALENDAR
VERSION:2.0
PRODID:-//ChamberMaster//Event Calendar 2.0//EN
METHOD:PUBLISH
X-PUBLISHED-TTL:P3D
REFRESH-INTERVAL:P3D
CALSCALE:GREGORIAN
BEGIN:VEVENT
DTSTART:20190622T140000Z
DTEND:20190622T163000Z
X-MICROSOFT-CDO-ALLDAYEVENT:FALSE
SUMMARY:GO Color Lake Bluff
DESCRIPTION:Lake Bluff Park District's first annual GO Color Lake Bluff 5K Run\, 3k Walk and Food Festival. Participants will be doused from shoulder to toe with colors (made from safely colored cornstarch) at color stations along the route before returning to the start where they will receive a final blast of color followed by an after party featuring music\, a photo wall\, massive color throws along with food vendors and beverages
X-ALT-DESC;FMTTYPE=text/html:Lake Bluff Park District&#39\;s first annual GO Color Lake Bluff 5K Run\, 3k Walk and Food Festival. Participants will be doused from shoulder to toe with colors (made from safely colored cornstarch) at color stations along the route before returning to the start where they will receive a final blast of color&nbsp\;followed by an after party featuring music\, a photo wall\, massive color throws along with food vendors and beverages
LOCATION:Lake Bluff Metra Station parking lot.
UID:e.1126.17659
SEQUENCE:3
DTSTAMP:20260424T055240Z
URL:https://business.lflbchamber.com/events/details/go-color-lake-bluff-17659
END:VEVENT

END:VCALENDAR
