BEGIN:VCALENDAR
VERSION:2.0
PRODID:-//ChamberMaster//Event Calendar 2.0//EN
METHOD:PUBLISH
X-PUBLISHED-TTL:P3D
REFRESH-INTERVAL:P3D
CALSCALE:GREGORIAN
BEGIN:VEVENT
DTSTART:20210319T180000Z
DTEND:20210319T200000Z
X-MICROSOFT-CDO-ALLDAYEVENT:FALSE
SUMMARY:Goal Setting & Getting Things Done
DESCRIPTION:This no-cost workshop will help you identify goal characteristics\, develop time management skills\, and strategies for when setbacks occur. Goal Setting is one of the most basic and essential skills someone can develop. What makes a good goal? We touch on goal characteristics\, time management\, making a to do list\, and what to do when setbacks occur. This workshop will provide the knowledge and skills for you to complete more tasks and get things done.
X-ALT-DESC;FMTTYPE=text/html:This no-cost workshop will help you identify goal characteristics\, develop time management skills\, and strategies for when setbacks occur. Goal Setting is one of the most basic and essential skills someone can develop. What makes a good goal? We touch on goal characteristics\, time management\, making a to do list\, and what to do when setbacks occur. This workshop will provide the knowledge and skills for you to complete more tasks and get things done.
LOCATION:Live Zoom
UID:e.1126.19935
SEQUENCE:3
DTSTAMP:20260425T230158Z
URL:https://business.lflbchamber.com/events/details/goal-setting-getting-things-done-19935
END:VEVENT

END:VCALENDAR
