BEGIN:VCALENDAR
VERSION:2.0
PRODID:-//ChamberMaster//Event Calendar 2.0//EN
METHOD:PUBLISH
X-PUBLISHED-TTL:P3D
REFRESH-INTERVAL:P3D
CALSCALE:GREGORIAN
BEGIN:VEVENT
DTSTART:20190420T000000Z
DTEND:20190420T010000Z
X-MICROSOFT-CDO-ALLDAYEVENT:FALSE
SUMMARY:Good Friday Service - Passion Play
DESCRIPTION:The Sign of Senator Jonah: A Modern Passion Play\n\nJoin us for an interactive\, contemporary play about the death\, burial and resurrection of Jesus.
X-ALT-DESC;FMTTYPE=text/html:<strong><span style="color:windowtext"><span style="font-family:lucida sans\,sans-serif"><span style="font-size:11.0pt">The Sign of Senator Jonah: A Modern Passion Play</span></span></span></strong><br />\n<span style="color:windowtext"><span style="font-family:lucida sans\,sans-serif"><span style="font-size:11.0pt">Join us for an interactive\, contemporary play about the death\, burial and resurrection of Jesus.</span></span></span><br />\n&nbsp\;
LOCATION:244 E. Center Ave.\, Lake Bluff
UID:e.1126.17674
SEQUENCE:3
DTSTAMP:20260424T084617Z
URL:https://business.lflbchamber.com/events/details/good-friday-service-passion-play-17674
END:VEVENT

END:VCALENDAR
