BEGIN:VCALENDAR
VERSION:2.0
PRODID:-//ChamberMaster//Event Calendar 2.0//EN
METHOD:PUBLISH
X-PUBLISHED-TTL:P3D
REFRESH-INTERVAL:P3D
CALSCALE:GREGORIAN
BEGIN:VEVENT
DTSTART:20240628T150000Z
DTEND:20240628T220000Z
X-MICROSOFT-CDO-ALLDAYEVENT:FALSE
SUMMARY:Grab & Go Crafts
DESCRIPTION:Pop into the library and grab a craft to go! Every week a new craft will be available\, while supplies last.\n\nGrab & Go Crafts are for all ages.
X-ALT-DESC;FMTTYPE=text/html:<p>Pop into the library and grab a craft to go! Every week a new craft will be available\, while supplies last.</p>\n\n<p>Grab &amp\; Go Crafts are for all ages.</p>\n
LOCATION:Lake Bluff Public Library 123 E. Scranton Ave. Lake Bluff\, IL. 60044
UID:e.1126.27064
SEQUENCE:3
DTSTAMP:20260424T010636Z
URL:https://business.lflbchamber.com/events/details/grab-go-crafts-06-28-2024-27064
END:VEVENT

END:VCALENDAR
