BEGIN:VCALENDAR
VERSION:2.0
PRODID:-//ChamberMaster//Event Calendar 2.0//EN
METHOD:PUBLISH
X-PUBLISHED-TTL:P3D
REFRESH-INTERVAL:P3D
CALSCALE:GREGORIAN
BEGIN:VEVENT
DTSTART;VALUE=DATE:20231215
DTEND;VALUE=DATE:20231216
TRANSP:TRANSPARENT
X-MICROSOFT-CDO-ALLDAYEVENT:TRUE
SUMMARY:Grab & Go Crafts
DESCRIPTION:Pop into the Library and grab a craft to go! New crafts will be available on Fridays\, while supplies last\,\n\nGrab & Go Craft Dates\n\nDecember 1st\, 8th\, 15th\, 22nd\, and 29th\n\nJanuary 5th\, 12th\, 19th\, and 26th\n\nFebruary 2nd\, 9th\, 16th\, 23rd
X-ALT-DESC;FMTTYPE=text/html:<p>Pop into the Library and grab a craft to go! New crafts will be available on Fridays\, while supplies last\,</p>\n\n<p><u>Grab &amp\; Go Craft Dates</u></p>\n\n<p>December 1st\, 8th\, 15th\, 22nd\, and 29th<br />\nJanuary 5th\, 12th\, 19th\, and 26th<br />\nFebruary 2nd\, 9th\, 16th\, 23rd</p>\n
LOCATION:Lake Bluff Public Library 123 E. Scranton Ave. Lake Bluff\, IL. 60044
UID:e.1126.26105
SEQUENCE:3
DTSTAMP:20260423T031058Z
URL:https://business.lflbchamber.com/events/details/grab-go-crafts-12-15-2023-26105
END:VEVENT

END:VCALENDAR
