BEGIN:VCALENDAR
VERSION:2.0
PRODID:-//ChamberMaster//Event Calendar 2.0//EN
METHOD:PUBLISH
X-PUBLISHED-TTL:P3D
REFRESH-INTERVAL:P3D
CALSCALE:GREGORIAN
BEGIN:VEVENT
DTSTART:20231213T190000Z
DTEND:20231213T200000Z
X-MICROSOFT-CDO-ALLDAYEVENT:FALSE
SUMMARY:Grand Opening | Fashion House Alesia C.
DESCRIPTION:
X-ALT-DESC;FMTTYPE=text/html:
LOCATION:207 E. Westminster\, #103 Lake Forest
UID:e.1126.26135
SEQUENCE:3
DTSTAMP:20260424T100733Z
URL:https://business.lflbchamber.com/events/details/grand-opening-fashion-house-alesia-c-26135
END:VEVENT

END:VCALENDAR
