BEGIN:VCALENDAR
VERSION:2.0
PRODID:-//ChamberMaster//Event Calendar 2.0//EN
METHOD:PUBLISH
X-PUBLISHED-TTL:P3D
REFRESH-INTERVAL:P3D
CALSCALE:GREGORIAN
BEGIN:VEVENT
DTSTART:20220925T003000Z
DTEND:20220925T020000Z
X-MICROSOFT-CDO-ALLDAYEVENT:FALSE
SUMMARY:Griffin House
DESCRIPTION:"IF YOU ARE LOOKING TO BE BLOWN AWAY BY RAW TALENT\, THEN LOOK NO FURTHER THAN GRIFFIN HOUSE."  AMERICAN SONGWRITER Griffin House\, has been touring for more than 15 years and has recorded over 12 studio albums. This fan favorite will be back at Gorton and you don't want to miss him!
X-ALT-DESC;FMTTYPE=text/html:&ldquo\;IF YOU ARE LOOKING TO BE BLOWN AWAY BY RAW TALENT\, THEN LOOK NO FURTHER THAN GRIFFIN HOUSE.&rdquo\; &mdash\;AMERICAN SONGWRITER Griffin House\, has been touring for more than 15 years and has recorded over 12 studio albums. This fan favorite will be back at Gorton and you don&#39\;t want to miss him!
LOCATION:Gorton Center
UID:e.1126.22344
SEQUENCE:3
DTSTAMP:20260426T040544Z
URL:https://business.lflbchamber.com/events/details/griffin-house-22344
END:VEVENT

END:VCALENDAR
