BEGIN:VCALENDAR
VERSION:2.0
PRODID:-//ChamberMaster//Event Calendar 2.0//EN
METHOD:PUBLISH
X-PUBLISHED-TTL:P3D
REFRESH-INTERVAL:P3D
CALSCALE:GREGORIAN
BEGIN:VEVENT
DTSTART:20190927T233000Z
DTEND:20190928T013000Z
X-MICROSOFT-CDO-ALLDAYEVENT:FALSE
SUMMARY:Grotto Dance 2019
DESCRIPTION:Sign your sixth grader up for this classic community event! The Grotto Dance returns on September 27th\, and is one night only in response to a resounding community request! One night\, two floors! The dance will take place in the Grotto as well as upstairs in our Stuart room. There will be a D.J. on each floor. Dance begins at 6:30pm and runs until 8:30pm. Please see Code of Conduct on ticket purchase page (agreement required for ticket purchase). If you are interested in chaperoning\, please email ann@gortoncenter.org
X-ALT-DESC;FMTTYPE=text/html:Sign your sixth grader up for this classic community event! The Grotto Dance returns on September 27th\, and is one night only in response to a resounding community request! One night\, two floors! The dance will take place in the Grotto as well as upstairs in our Stuart room. There will be a D.J. on each floor. Dance begins at 6:30pm and runs until 8:30pm. Please see Code of Conduct on ticket purchase page (agreement required for ticket purchase). If you are interested in chaperoning\, please email ann@gortoncenter.org
LOCATION:Gorton Community Center 400 E. Illinois Rd Lake Forest\, IL 60045
UID:e.1126.18241
SEQUENCE:3
DTSTAMP:20260424T012552Z
URL:https://business.lflbchamber.com/events/details/grotto-dance-2019-18241
END:VEVENT

END:VCALENDAR
