BEGIN:VCALENDAR
VERSION:2.0
PRODID:-//ChamberMaster//Event Calendar 2.0//EN
METHOD:PUBLISH
X-PUBLISHED-TTL:P3D
REFRESH-INTERVAL:P3D
CALSCALE:GREGORIAN
BEGIN:VEVENT
DTSTART:20260425T150000Z
DTEND:20260425T160000Z
X-MICROSOFT-CDO-ALLDAYEVENT:FALSE
SUMMARY:Guided Nature Meditation with Margaret Renkl
DESCRIPTION:Register and join the Lake Forest and Lake Bluff libraries in person at Lake Forest Library for a guided nature meditation and reflective writing workshop with Margaret Renkl. After quiet reflection\, in which participants are invited to bring back the natural world and sensory details of their childhood\, Margaret will lead a writing exercise that corresponds to Spring Week 6 in The Comfort of Crows. Book signing to follow.
X-ALT-DESC;FMTTYPE=text/html:<span style="font-family:gotham\,sans-serif\; font-size:14px">Register and join the Lake Forest and Lake Bluff libraries in person at Lake Forest Library for a guided nature meditation and reflective writing workshop with Margaret Renkl. After quiet reflection\, in which participants are invited to bring back the natural world and sensory details of their childhood\, Margaret will lead a writing exercise that corresponds to Spring Week 6 in&nbsp\;</span><em>The Comfort of Crows</em><span style="font-family:gotham\,sans-serif\; font-size:14px">. Book signing to follow.</span>
LOCATION:Lake Forest Library 360 E Deerpath Rd Lake Forest IL 60045
UID:e.1126.33887
SEQUENCE:3
DTSTAMP:20260425T220906Z
URL:https://business.lflbchamber.com/events/details/guided-nature-meditation-with-margaret-renkl-33887
END:VEVENT

END:VCALENDAR
