BEGIN:VCALENDAR
VERSION:2.0
PRODID:-//ChamberMaster//Event Calendar 2.0//EN
METHOD:PUBLISH
X-PUBLISHED-TTL:P3D
REFRESH-INTERVAL:P3D
CALSCALE:GREGORIAN
BEGIN:VEVENT
DTSTART:20190517T000000Z
DTEND:20190517T013000Z
X-MICROSOFT-CDO-ALLDAYEVENT:FALSE
SUMMARY:Healthy Living and Eating with Marina
DESCRIPTION:Do you feel you don't have time to cook or eat a healthy meal? Are you overwhelmed just by the idea of a healthy week meal planning? Do you end up buying pre-packaged foods or visiting too many drive thrus? Come to this workshop with Marina Boldrini Rivelis of Taste of Real Food and you will go home with the tools and more information to organize\, plan and make delicious\, quick and easy weeknight meals! Information\, recipes and weekly meal ideas will be provided. Your ticket includes: Two beef or veggie empanadas (turnovers) and one glass of Malbec wine!
X-ALT-DESC;FMTTYPE=text/html:Do you feel you don&rsquo\;t have time to cook or eat a healthy meal? Are you overwhelmed just by the idea of a healthy week meal planning? Do you end up buying pre-packaged foods or visiting too many drive thrus? Come to this workshop with Marina Boldrini Rivelis of Taste of Real Food and you will go home with the tools and more information to organize\, plan and make delicious\, quick and easy weeknight meals! Information\, recipes and weekly meal ideas will be provided. Your ticket includes: Two beef or veggie empanadas (turnovers) and one glass of Malbec wine!
LOCATION:Gorton Community Center 400 East Illinois Road Lake Forest\, IL 60045 (847) 234-6060
UID:e.1126.17859
SEQUENCE:3
DTSTAMP:20260424T085116Z
URL:https://business.lflbchamber.com/events/details/healthy-living-and-eating-with-marina-17859
END:VEVENT

END:VCALENDAR
