BEGIN:VCALENDAR
VERSION:2.0
PRODID:-//ChamberMaster//Event Calendar 2.0//EN
METHOD:PUBLISH
X-PUBLISHED-TTL:P3D
REFRESH-INTERVAL:P3D
CALSCALE:GREGORIAN
BEGIN:VEVENT
DTSTART:20260516T190000Z
DTEND:20260516T200000Z
X-MICROSOFT-CDO-ALLDAYEVENT:FALSE
SUMMARY:Hold a Fossil: T-Rexplorers
DESCRIPTION:Step into the world of dinosaurs with Dino Seeds Experience! Get up close with real fossils\, discover what life was like on a paleontological dig\, and uncover how plants shaped the prehistoric world. Arrive 15 minutes early to meet Ranger the T-Rex!\n\nSponsored by the Friends of the Lake Bluff Library.\n\nAges 5 to 12.
X-ALT-DESC;FMTTYPE=text/html:<p><span style="font-size:12px"><span style="font-family:arial\,helvetica\,sans-serif">Step into the world of dinosaurs with Dino Seeds Experience! Get up close with real fossils\, discover what life was like on a paleontological dig\, and uncover how plants shaped the prehistoric world. Arrive 15 minutes early to meet Ranger the T-Rex!</span></span></p>\n\n<p><span style="font-size:12px"><span style="font-family:arial\,helvetica\,sans-serif"><em>Sponsored by the Friends of the Lake Bluff Library.</em></span></span></p>\n\n<p><span style="font-size:12px"><span style="font-family:arial\,helvetica\,sans-serif"><strong>Ages 5 to 12.</strong></span></span></p>\n
LOCATION:Lake Bluff Public Library 123 E. Scranton Ave. Lake Bluff\, IL. 60044
UID:e.1126.33859
SEQUENCE:3
DTSTAMP:20260424T235730Z
URL:https://business.lflbchamber.com/events/details/hold-a-fossil-t-rexplorers-33859
END:VEVENT

END:VCALENDAR
