BEGIN:VCALENDAR
VERSION:2.0
PRODID:-//ChamberMaster//Event Calendar 2.0//EN
METHOD:PUBLISH
X-PUBLISHED-TTL:P3D
REFRESH-INTERVAL:P3D
CALSCALE:GREGORIAN
BEGIN:VEVENT
DTSTART:20210423T130000Z
DTEND:20210423T140000Z
X-MICROSOFT-CDO-ALLDAYEVENT:FALSE
SUMMARY:COC B4Work
DESCRIPTION:Start your day with B4WORK \n\nand a little virtual networking!\n\n \n\nGet together with both old and new business friends for an informative presentation\, some lively conversation\, and opportunities to build your referral network.\n\n\n\nToday's presentation:\n\nRebecca Bloomfield of Jerry S. Pearlstein Insurance \n\nThe COVID-19 Stimulus bill just passed contains the biggest change to Obamacare since 2010. Will you save money? When? How can you get more for your insurance dollar now? Jerry S. Pearlstein Insurance is a four-time winner of healthcare.gov"s Circle of Champions award for navigating people to better coverage at less cost through the ACA. Partner Rebecca Bloomfield lets us in on the news.\n\n\n\nComplimentary admission and all are welcome.\n\n(Advance registration required for Zoom link)
X-ALT-DESC;FMTTYPE=text/html:<h1 style="text-align: center\;"><strong><em><span style="color: green\;"><span style="font-family: arial\, sans-serif\;">Start your day with B4WORK&hellip\;</span></span></em></strong><br />\n<strong><em><span style="color: green\;"><span style="font-family: arial\, sans-serif\;">and a little virtual networking!</span></span></em></strong><br />\n&nbsp\;</h1>\n\n<h2 style="text-align: center\;">Get together with both&nbsp\;old and new business friends for an informative presentation\,&nbsp\;some lively conversation\, and opportunities to build your referral network.<br />\n<br />\n<em>Today&#39\;s presentation:</em><br />\n<strong>Rebecca Bloomfield of Jerry S. Pearlstein Insurance</strong>&nbsp\;</h2>\n\n<p style="text-align: center\;"><em>The COVID-19 Stimulus bill just passed contains the biggest change to Obamacare since 2010.&nbsp\;Will you save money? When? How can you get more for your insurance dollar now?&nbsp\;Jerry S. Pearlstein Insurance is a four-time winner of healthcare.gov&rdquo\;s Circle of Champions award for navigating people to better coverage at less cost through the ACA. Partner Rebecca Bloomfield lets us in on the news.</em></p>\n\n<h2 style="text-align: center\;"><br />\n<strong><span style="font-family: arial\, sans-serif\;"><span style="font-size: 12pt\;">Complimentary admission and all are welcome.<br />\n(Advance registration required for Zoom link)</span></span></strong></h2>\n\n<div style="text-align: center\; line-height: 20.8px\;">&nbsp\;</div>\n\n<div style="text-align: center\; line-height: 20.8px\;">&nbsp\;</div>\n
LOCATION:Via Zoom
UID:e.1126.19598
SEQUENCE:3
DTSTAMP:20260426T000345Z
URL:https://business.lflbchamber.com/events/details/homework-virtual-b4work-04-23-2021-19598
END:VEVENT

END:VCALENDAR
