BEGIN:VCALENDAR
VERSION:2.0
PRODID:-//ChamberMaster//Event Calendar 2.0//EN
METHOD:PUBLISH
X-PUBLISHED-TTL:P3D
REFRESH-INTERVAL:P3D
CALSCALE:GREGORIAN
BEGIN:VEVENT
DTSTART:20200508T130000Z
DTEND:20200508T140000Z
X-MICROSOFT-CDO-ALLDAYEVENT:FALSE
SUMMARY:COC B4Work
DESCRIPTION:Start your day with B4WORK \n\nand a little virtual networking!\n\n \n\nGet together with both old and new business friends for an informative presentation\, some lively conversation\, and opportunities to build your referral network.\n\n\n\nComplimentary admission and all are welcome.\n\n(Advance registration required for Zoom link)
X-ALT-DESC;FMTTYPE=text/html:<h1 style="text-align: center\;"><strong><em><span style="color: green\;"><span style="font-family: arial\, sans-serif\;">Start your day with B4WORK&hellip\;</span></span></em></strong><br />\n<strong><em><span style="color: green\;"><span style="font-family: arial\, sans-serif\;">and a little virtual networking!</span></span></em></strong><br />\n&nbsp\;</h1>\n\n<h2 style="text-align: center\;">Get together with both&nbsp\;old and new business friends for an informative presentation\,&nbsp\;some lively conversation\, and opportunities to build your referral network.<br />\n<br />\n<strong><span style="font-family: arial\, sans-serif\;"><span style="font-size: 12pt\;">Complimentary admission and all are welcome.<br />\n(Advance registration required for Zoom link)</span></span></strong></h2>\n\n<div style="text-align: center\; line-height: 20.8px\;">&nbsp\;</div>\n\n<div style="text-align: center\; line-height: 20.8px\;">&nbsp\;</div>\n
LOCATION:Via Zoom
UID:e.1126.19150
SEQUENCE:3
DTSTAMP:20260425T220608Z
URL:https://business.lflbchamber.com/events/details/homework-virtual-b4work-05-08-2020-19150
END:VEVENT

END:VCALENDAR
