BEGIN:VCALENDAR
VERSION:2.0
PRODID:-//ChamberMaster//Event Calendar 2.0//EN
METHOD:PUBLISH
X-PUBLISHED-TTL:P3D
REFRESH-INTERVAL:P3D
CALSCALE:GREGORIAN
BEGIN:VEVENT
DTSTART:20200807T130000Z
DTEND:20200807T130000Z
X-MICROSOFT-CDO-ALLDAYEVENT:FALSE
SUMMARY:HomeWork (Virtual B4Work)
DESCRIPTION:Learn to Zoom like a pro! \n\nJoin us for a presentation by \n\nLori Tisnai of Computer Concepts\n\non best practices...and some networking to build your referral network.\n\n\n\n \n\n"Stay Connected: Learn virtual meeting tips and equipment must-haves"\n\n \n\nOnline events are here to stay for a while   get even more comfortable using Zoom and learn about some easy to use tools\, for sound\, lighting and backdrops can enhance your online presence.  Hear about best practices\, the list of settings to adjust\, and equipment to create a professional look that can easily be purchased online.\n\n \n\nComplimentary admission and all are welcome.\n\n(Advance registration required for Zoom link)
X-ALT-DESC;FMTTYPE=text/html:<h1 style="text-align: center\;"><span style="font-size: 24px\;"><span style="margin: 0px\; padding: 0px\; border: 0px\; font-family: inherit\; font-style: italic\; font-variant-caps: inherit\; font-weight: bold\; font-stretch: inherit\; line-height: inherit\; vertical-align: baseline\; color: rgb(56\, 143\, 55)\;">Learn to Zoom like a pro!&nbsp\;</span></span></h1>\n\n<div align="center" style="margin: 0px\; padding: 0px\; border: 0px\; font-family: Arial\, Verdana\, Helvetica\, sans-serif\; font-size: 14px\; font-stretch: inherit\; line-height: inherit\; vertical-align: baseline\; color: rgb(1\, 22\, 30)\; caret-color: rgb(1\, 22\, 30)\; text-align: center\;"><span style="margin: 0px\; padding: 0px\; border: 0px\; font-family: inherit\; font-size: 20px\; font-style: italic\; font-variant-caps: inherit\; font-weight: bold\; font-stretch: inherit\; line-height: inherit\; vertical-align: baseline\; color: rgb(56\, 143\, 55)\;"><span style="font-size: 24px\;">Join us for a presentation by&nbsp\;</span></span><br />\n<span style="color: rgb(0\, 0\, 0)\;"><span style="margin: 0px\; padding: 0px\; border: 0px\; font-family: inherit\; font-size: 20px\; font-style: italic\; font-variant-caps: inherit\; font-weight: bold\; font-stretch: inherit\; line-height: inherit\; vertical-align: baseline\;"><span style="font-size: 24px\;">Lori Tisnai of Computer Concepts</span></span></span><br />\n<span style="margin: 0px\; padding: 0px\; border: 0px\; font-family: inherit\; font-size: 20px\; font-style: italic\; font-variant-caps: inherit\; font-weight: bold\; font-stretch: inherit\; line-height: inherit\; vertical-align: baseline\; color: rgb(56\, 143\, 55)\;"><span style="font-size: 24px\;">on best practices...and some networking to build your referral network.</span></span><br />\n<br />\n&nbsp\;</div>\n\n<h1 align="center" style="caret-color: rgb(32\, 31\, 30)\; color: rgb(32\, 31\, 30)\; font-size: 11pt\; font-family: Calibri\, sans-serif\; text-align: center\; margin: 0px\;"><span style="font-size: 24px\;"><strong>&ldquo\;Stay Connected: Learn virtual meeting tips and equipment must-haves&rdquo\;</strong></span></h1>\n\n<p style="caret-color: rgb(32\, 31\, 30)\; color: rgb(32\, 31\, 30)\; font-size: 11pt\; font-family: Calibri\, sans-serif\; margin: 0px\;">&nbsp\;</p>\n\n<p style="caret-color: rgb(32\, 31\, 30)\; color: rgb(32\, 31\, 30)\; font-size: 11pt\; font-family: Calibri\, sans-serif\; margin: 0px\;">Online events are here to stay for a while &ndash\; get even more comfortable using Zoom and learn about some easy to use tools\, for sound\, lighting and backdrops can enhance your online presence.&nbsp\; Hear about best practices\, the list of settings to adjust\, and equipment to create a professional look that can easily be purchased online.<br />\n&nbsp\;</p>\n\n<p style="caret-color: rgb(32\, 31\, 30)\; color: rgb(32\, 31\, 30)\; font-size: 11pt\; font-family: Calibri\, sans-serif\; margin: 0px\; text-align: center\;"><strong><span style="font-family: arial\, sans-serif\;"><span style="font-size: 12pt\;">Complimentary admission and all are welcome.<br />\n(Advance registration required for Zoom link)</span></span></strong></p>\n
LOCATION:Via Zoom
UID:e.1126.19417
SEQUENCE:3
DTSTAMP:20260426T001704Z
URL:https://business.lflbchamber.com/events/details/homework-virtual-b4work-08-07-2020-19417
END:VEVENT

END:VCALENDAR
