BEGIN:VCALENDAR
VERSION:2.0
PRODID:-//ChamberMaster//Event Calendar 2.0//EN
METHOD:PUBLISH
X-PUBLISHED-TTL:P3D
REFRESH-INTERVAL:P3D
CALSCALE:GREGORIAN
BEGIN:VEVENT
DTSTART:20190521T233000Z
DTEND:20190522T010000Z
X-MICROSOFT-CDO-ALLDAYEVENT:FALSE
SUMMARY:HOW TO BREAK INTO THE NONPROFIT WORK
DESCRIPTION:Presented by: Kristina Phillips\, Executive Director\, CRC\n\nNonprofits account for over 12 million jobs in the private sector. It is the third largest workforce in the US and a diverse industry with a broad array of services. It takes more than just a good heart to succeed in the nonprofit sector and job candidates must understand how the industry differs from for profit positions.  As a seasoned nonprofit leader\, Kristina will discuss the unique challenges nonprofit leaders face ranging from funding to performance metrics. Kristina will share her wealth of nonprofit experience and knowledge. Attendees will participate in small groups activities as well as research and explore job opportunities. \n\nKristina Phillips was appointed Executive Director of Career Resource Center in June 2017. She holds a BA\, MPA\, and is currently completing a PhD in Business Organization and Management.\n\nHer professional experience spans public policy\, workforce training and development\, program design and implementation\, donor management\, event management\, and grant writing. Kristina has been an active team builder\, development expert\, and leader with several area nonprofit organizations. She works closely with Career Resource Center's board\, staff\, and volunteers to seek and cultivate relationships with strategic partners\, individual donors\, private foundations\, philanthropic entities\, government organizations\, and community agencies.\n\n?By utilizing her business and social service acumen\, Kristina is able to guide the agency toward a more encompassing view of the job seeker. Throughout her directorship\, she has incorporated a broader range of membership from more diverse populations who greatly benefit from the \n\ncenter's services. Kristina works to deepen and strengthen community bonds as well\, by partnering with several neighboring townships and local businesses. Kristina has expanded programming to achieve a holistic and comprehensive approach to the job search.\n\n \n\nRegistration is required to attend.  Please call 847-295-5626.\n\nAttendees should bring a laptop or tablet to participate.
X-ALT-DESC;FMTTYPE=text/html:Presented by:&nbsp\;<span style="font-family:tahoma\,sans-serif"><span style="font-size:12.0pt">Kristina Phillips\, Executive Director\, CRC<br />\nNonprofits account for over 12 million jobs in the private sector. It is the third largest workforce in the US and a diverse industry with a broad array of services. It takes more than just a good heart to succeed in the nonprofit sector and job candidates must understand how the industry differs from for profit positions.&nbsp\; As a seasoned nonprofit leader\, Kristina will discuss the unique challenges nonprofit leaders face ranging from funding to performance metrics. Kristina will share her wealth of nonprofit experience and knowledge. Attendees will participate in small groups activities as well as research and explore job opportunities. </span></span><br />\n<span style="font-family:tahoma\,sans-serif">Kristina Phillips was appointed Executive Director of Career Resource Center in June 2017. She holds a BA\, MPA\, and is currently completing a PhD in Business Organization and Management.</span><br />\n<span style="font-family:tahoma\,sans-serif">Her professional experience spans public policy\, workforce training and development\, program design and implementation\, donor management\, event management\, and grant writing. Kristina has been an active team builder\, development expert\, and leader with several area nonprofit organizations. She works closely with Career Resource Center&#39\;s board\, staff\, and volunteers to seek and cultivate relationships with strategic partners\, individual donors\, private foundations\, philanthropic entities\, government organizations\, and community agencies.</span><br />\n<span style="font-family:tahoma\,sans-serif">?By utilizing her business and social service acumen\, Kristina is able to guide the agency toward a more encompassing view of the job seeker. Throughout her directorship\, she has incorporated a broader range of membership from more diverse populations who greatly benefit from the </span><br />\n<span style="font-family:tahoma\,sans-serif">center&#39\;s services. Kristina works to deepen and strengthen community bonds as well\, by partnering with several neighboring townships and local businesses. Kristina has expanded programming to achieve a holistic and comprehensive approach to the job search.</span><br />\n&nbsp\;<br />\n<strong><span style="font-family:tahoma\,sans-serif">Registration is required to attend.&nbsp\; Please call 847-295-5626.</span></strong><br />\n<strong><span style="font-family:tahoma\,sans-serif">Attendees should bring a laptop or tablet to participate.</span></strong><br />\n&nbsp\;
LOCATION:Career Resource Center Grove Cultural Campus 40 East Old Mill Road\, Suite 105 Lake Forest\, IL 60045
UID:e.1126.17848
SEQUENCE:3
DTSTAMP:20260424T071526Z
URL:https://business.lflbchamber.com/events/details/how-to-break-into-the-nonprofit-work-17848
END:VEVENT

END:VCALENDAR
