BEGIN:VCALENDAR
VERSION:2.0
PRODID:-//ChamberMaster//Event Calendar 2.0//EN
METHOD:PUBLISH
X-PUBLISHED-TTL:P3D
REFRESH-INTERVAL:P3D
CALSCALE:GREGORIAN
BEGIN:VEVENT
DTSTART:20250407T150000Z
DTEND:20250407T160000Z
X-MICROSOFT-CDO-ALLDAYEVENT:FALSE
SUMMARY:How To Find And Attract Board Members For A NonProfit
DESCRIPTION:Discover effective strategies to find\, attract\, and engage ideal board members\, building a high-performing team to support your mission and long-term success.
X-ALT-DESC;FMTTYPE=text/html:<span style="color:#282829\;"><span style="font-family:lato\,sans-serif\;"><span style="font-size:12.0pt\;">Discover effective strategies to find\, attract\, and engage ideal board members\, building a high-performing team to support your mission and long-term success.</span></span></span>
LOCATION:Zoom
UID:e.1126.30383
SEQUENCE:3
DTSTAMP:20260424T023419Z
URL:https://business.lflbchamber.com/events/details/how-to-find-and-attract-board-members-for-a-nonprofit-30383
END:VEVENT

END:VCALENDAR
