BEGIN:VCALENDAR
VERSION:2.0
PRODID:-//ChamberMaster//Event Calendar 2.0//EN
METHOD:PUBLISH
X-PUBLISHED-TTL:P3D
REFRESH-INTERVAL:P3D
CALSCALE:GREGORIAN
BEGIN:VEVENT
DTSTART:20260507T230000Z
DTEND:20260508T000000Z
X-MICROSOFT-CDO-ALLDAYEVENT:FALSE
SUMMARY:How to Navigate ADHD
DESCRIPTION:Staff members from Courage to Connect Therapy will present on how to navigate ADHD as an adult and staying connected in an increasingly virtual world.\n\nRegistration is not required for this event\, but you can sign up if you would like to receive a reminder email 1 day before the program.
X-ALT-DESC;FMTTYPE=text/html:<p>Staff members from Courage to Connect Therapy will present on how to navigate ADHD as an adult and staying connected in an increasingly virtual world.</p>\n\n<p><strong>Registration is not required for this event\, but you can sign up if you would like to receive a reminder email 1 day before the program.</strong></p>\n
LOCATION:Lake Bluff Public Library 123 E. Scranton Ave. Lake Bluff\, IL. 60044
UID:e.1126.33856
SEQUENCE:3
DTSTAMP:20260424T235626Z
URL:https://business.lflbchamber.com/events/details/how-to-navigate-adhd-33856
END:VEVENT

END:VCALENDAR
